BEGIN:VCALENDAR
VERSION:2.0
PRODID:-//L&#039;Entente des Canaux du Centre France - ECPv4.9.7//NONSGML v1.0//EN
CALSCALE:GREGORIAN
METHOD:PUBLISH
X-WR-CALNAME:L&#039;Entente des Canaux du Centre France
X-ORIGINAL-URL:https://www.ententedescanaux.org
X-WR-CALDESC:Évènements pour L&#039;Entente des Canaux du Centre France
BEGIN:VTIMEZONE
TZID:"Europe/Paris"
BEGIN:DAYLIGHT
TZOFFSETFROM:+0100
TZOFFSETTO:+0200
TZNAME:CEST
DTSTART:20230326T010000
END:DAYLIGHT
BEGIN:STANDARD
TZOFFSETFROM:+0200
TZOFFSETTO:+0100
TZNAME:CET
DTSTART:20231029T010000
END:STANDARD
END:VTIMEZONE
BEGIN:VEVENT
DTSTART;VALUE=DATE:20230624
DTEND;VALUE=DATE:20230626
DTSTAMP:20260424T082713
CREATED:20230619T065855Z
LAST-MODIFIED:20230619T065855Z
UID:6454-1687564800-1687737599@www.ententedescanaux.org
SUMMARY:Vallon Fête du Canal AVPF 24-25 juin 2023
DESCRIPTION:Péniche Espanola\, venez nombreux vous réjouir avec nous et\nanimer le Canal de Berry\n  \n \n
URL:https://www.ententedescanaux.org/evenements/vallon-fete-du-canal-avpf-24-25-juin-2023/
LOCATION:Vallon-en-Sully\, Mairie - av. Marx Dormoy\, Vallon -en-Sully\, 03190
ATTACH;FMTTYPE=image/jpeg:https://www.ententedescanaux.org/wp-content/uploads/2020/05/AVPF-Logo-1.jpg
END:VEVENT
END:VCALENDAR