BEGIN:VCALENDAR
VERSION:2.0
PRODID:-//L&#039;Entente des Canaux du Centre France - ECPv4.9.7//NONSGML v1.0//EN
CALSCALE:GREGORIAN
METHOD:PUBLISH
X-WR-CALNAME:L&#039;Entente des Canaux du Centre France
X-ORIGINAL-URL:https://www.ententedescanaux.org
X-WR-CALDESC:Évènements pour L&#039;Entente des Canaux du Centre France
BEGIN:VTIMEZONE
TZID:"Europe/Paris"
BEGIN:DAYLIGHT
TZOFFSETFROM:+0100
TZOFFSETTO:+0200
TZNAME:CEST
DTSTART:20220327T010000
END:DAYLIGHT
BEGIN:STANDARD
TZOFFSETFROM:+0200
TZOFFSETTO:+0100
TZNAME:CET
DTSTART:20221030T010000
END:STANDARD
END:VTIMEZONE
BEGIN:VEVENT
DTSTART;TZID="Europe/Paris":20220429T110000
DTEND;TZID="Europe/Paris":20220429T130000
DTSTAMP:20260422T054012
CREATED:20220418T083927Z
LAST-MODIFIED:20220418T083927Z
UID:5672-1651230000-1651237200@www.ententedescanaux.org
SUMMARY:Navigation sur le Canal de Berry
DESCRIPTION:Chers (es) amis\,\nAvec 2 nouveaux bateaux et le ponton plus long\, je vous invite à inaugurer la réouverture à la navigation à Thénioux le vendredi 29 avril 2022 à 11h 00.\nAfin de bien préparer cette réouverture\, veuillez indiquer par mail votre venue … par avance merci.\nBien à vous.\nAndré Barre  – Président de Navicabe\n06 81 04 67 86       www.navicabe.org \n  \n \n
URL:https://www.ententedescanaux.org/evenements/navigation-sur-le-canal-de-berry/
LOCATION:L’Escale\, 77 Rte de Tours\,\, Thénioux\, 18100\, France
ATTACH;FMTTYPE=image/jpeg:https://www.ententedescanaux.org/wp-content/uploads/2020/04/NAVICABE-Logo-1.jpg
END:VEVENT
END:VCALENDAR