BEGIN:VCALENDAR
VERSION:2.0
PRODID:-//L&#039;Entente des Canaux du Centre France - ECPv4.9.7//NONSGML v1.0//EN
CALSCALE:GREGORIAN
METHOD:PUBLISH
X-WR-CALNAME:L&#039;Entente des Canaux du Centre France
X-ORIGINAL-URL:https://www.ententedescanaux.org
X-WR-CALDESC:Évènements pour L&#039;Entente des Canaux du Centre France
BEGIN:VTIMEZONE
TZID:"Europe/Paris"
BEGIN:DAYLIGHT
TZOFFSETFROM:+0100
TZOFFSETTO:+0200
TZNAME:CEST
DTSTART:20230326T010000
END:DAYLIGHT
BEGIN:STANDARD
TZOFFSETFROM:+0200
TZOFFSETTO:+0100
TZNAME:CET
DTSTART:20231029T010000
END:STANDARD
END:VTIMEZONE
BEGIN:VEVENT
DTSTART;TZID="Europe/Paris":20230501T000000
DTEND;TZID="Europe/Paris":20231031T000000
DTSTAMP:20260422T023210
CREATED:20230703T160027Z
LAST-MODIFIED:20230901T053527Z
UID:6605-1682899200-1698710400@www.ententedescanaux.org
SUMMARY:Musée des 2 Marines : Exposition temporaire 2023
DESCRIPTION:  \n  \n \n
URL:https://www.ententedescanaux.org/evenements/musee-des-2-marines-exposition-temporaire-2023/
LOCATION:Musée des 2 Marines\, 58 boulevard Buyser\, Briare\, 45250\, France
ATTACH;FMTTYPE=image/jpeg:https://www.ententedescanaux.org/wp-content/uploads/2020/03/FCB-Logo-280.jpg
END:VEVENT
END:VCALENDAR