BEGIN:VCALENDAR
VERSION:2.0
PRODID:-//L&#039;Entente des Canaux du Centre France - ECPv4.9.7//NONSGML v1.0//EN
CALSCALE:GREGORIAN
METHOD:PUBLISH
X-WR-CALNAME:L&#039;Entente des Canaux du Centre France
X-ORIGINAL-URL:https://www.ententedescanaux.org
X-WR-CALDESC:Évènements pour L&#039;Entente des Canaux du Centre France
BEGIN:VTIMEZONE
TZID:"Europe/Paris"
BEGIN:DAYLIGHT
TZOFFSETFROM:+0100
TZOFFSETTO:+0200
TZNAME:CEST
DTSTART:20230326T010000
END:DAYLIGHT
BEGIN:STANDARD
TZOFFSETFROM:+0200
TZOFFSETTO:+0100
TZNAME:CET
DTSTART:20231029T010000
END:STANDARD
END:VTIMEZONE
BEGIN:VEVENT
DTSTART;TZID="Europe/Paris":20230616T100000
DTEND;TZID="Europe/Paris":20230616T180000
DTSTAMP:20260424T095523
CREATED:20230616T124654Z
LAST-MODIFIED:20230616T124914Z
UID:6437-1686909600-1686938400@www.ententedescanaux.org
SUMMARY:Les Amis du Canal du Nivernais - Journée découverte le 28 juin 2023
DESCRIPTION:			\n				\n					\n						\n							\n							Loading...\n						\n					\n					\n						\n							\n							Taking too long?\n						\n						\n							\n								 Reload document							\n							|\n							\n								 Open in new tab							\n					\n				\n			\n		Téléchargez ce document  \n
URL:https://www.ententedescanaux.org/evenements/les-amis-du-canal-du-nivernais-journee-decouverte-le-28-juin-2023/
LOCATION:écluse de Chassignelles\, Chassignelles\, 89160\, France
ATTACH;FMTTYPE=image/jpeg:https://www.ententedescanaux.org/wp-content/uploads/2019/12/Logo-ACN-2019.jpg
END:VEVENT
END:VCALENDAR