BEGIN:VCALENDAR
VERSION:2.0
PRODID:-//L&#039;Entente des Canaux du Centre France - ECPv4.9.7//NONSGML v1.0//EN
CALSCALE:GREGORIAN
METHOD:PUBLISH
X-WR-CALNAME:L&#039;Entente des Canaux du Centre France
X-ORIGINAL-URL:https://www.ententedescanaux.org
X-WR-CALDESC:Évènements pour L&#039;Entente des Canaux du Centre France
BEGIN:VTIMEZONE
TZID:"Europe/Paris"
BEGIN:DAYLIGHT
TZOFFSETFROM:+0100
TZOFFSETTO:+0200
TZNAME:CEST
DTSTART:20220327T010000
END:DAYLIGHT
BEGIN:STANDARD
TZOFFSETFROM:+0200
TZOFFSETTO:+0100
TZNAME:CET
DTSTART:20221030T010000
END:STANDARD
END:VTIMEZONE
BEGIN:VEVENT
DTSTART;VALUE=DATE:20220909
DTEND;VALUE=DATE:20220912
DTSTAMP:20260422T022754
CREATED:20220126T102700Z
LAST-MODIFIED:20220608T165438Z
UID:5485-1662681600-1662940799@www.ententedescanaux.org
SUMMARY:Festival du flottage
DESCRIPTION:* Les vendredi 09\, samedi 10 et dimanche 11 septembre : Festival du flottage à Clamecy. \n \n
URL:https://www.ententedescanaux.org/evenements/festival-du-flottage/
LOCATION:Clamecy
ATTACH;FMTTYPE=image/jpeg:https://www.ententedescanaux.org/wp-content/uploads/2019/12/Logo-ACN-2019.jpg
END:VEVENT
END:VCALENDAR