BEGIN:VCALENDAR
VERSION:2.0
PRODID:-//L&#039;Entente des Canaux du Centre France - ECPv4.9.7//NONSGML v1.0//EN
CALSCALE:GREGORIAN
METHOD:PUBLISH
X-WR-CALNAME:L&#039;Entente des Canaux du Centre France
X-ORIGINAL-URL:https://www.ententedescanaux.org
X-WR-CALDESC:Évènements pour L&#039;Entente des Canaux du Centre France
BEGIN:VTIMEZONE
TZID:"Europe/Paris"
BEGIN:DAYLIGHT
TZOFFSETFROM:+0100
TZOFFSETTO:+0200
TZNAME:CEST
DTSTART:20230326T010000
END:DAYLIGHT
BEGIN:STANDARD
TZOFFSETFROM:+0200
TZOFFSETTO:+0100
TZNAME:CET
DTSTART:20231029T010000
END:STANDARD
END:VTIMEZONE
BEGIN:VEVENT
DTSTART;VALUE=DATE:20230708
DTEND;VALUE=DATE:20230710
DTSTAMP:20260422T023039
CREATED:20230105T115434Z
LAST-MODIFIED:20230711T054132Z
UID:5994-1688774400-1688947199@www.ententedescanaux.org
SUMMARY:DBA - AUXERRE RALLY 2023 JULY
DESCRIPTION:\n\nAUXERRE RALLY 2023\n\n\nFrom Tuesday 11 July 2023\nTo Monday 17 July 2023\n\n\n\nThe Rally will open for bookings in early January 2023 – look out for details in Blue Flag\, on the Forum and in the Facebook M embers Group. Bookings will be taken in strict order so those pre-registered for the rally will have first chance then if there are any spaces it will open to others.\n\nby Mike Gibbons\n\nVoir le site de la DBA \n\n\n
URL:https://www.ententedescanaux.org/evenements/dba-auxerre-rally-2023-july/
LOCATION:Port de Plaisance d’Auxerre\, Quai de l'Ancienne Abbaye\, Auxerre\, 89000\, France
ATTACH;FMTTYPE=image/jpeg:https://www.ententedescanaux.org/wp-content/uploads/2019/10/Logo-DBA-A.jpg
END:VEVENT
END:VCALENDAR