BEGIN:VCALENDAR
VERSION:2.0
PRODID:-//L&#039;Entente des Canaux du Centre France - ECPv4.9.7//NONSGML v1.0//EN
CALSCALE:GREGORIAN
METHOD:PUBLISH
X-WR-CALNAME:L&#039;Entente des Canaux du Centre France
X-ORIGINAL-URL:https://www.ententedescanaux.org
X-WR-CALDESC:Évènements pour L&#039;Entente des Canaux du Centre France
BEGIN:VTIMEZONE
TZID:"Europe/Paris"
BEGIN:DAYLIGHT
TZOFFSETFROM:+0100
TZOFFSETTO:+0200
TZNAME:CEST
DTSTART:20210328T010000
END:DAYLIGHT
BEGIN:STANDARD
TZOFFSETFROM:+0200
TZOFFSETTO:+0100
TZNAME:CET
DTSTART:20211031T010000
END:STANDARD
END:VTIMEZONE
BEGIN:VEVENT
DTSTART;VALUE=DATE:20211204
DTEND;VALUE=DATE:20211206
DTSTAMP:20260424T100334
CREATED:20211029T105531Z
LAST-MODIFIED:20211029T105640Z
UID:5350-1638576000-1638748799@www.ententedescanaux.org
SUMMARY:ARECABE TELETHON 2021
DESCRIPTION:Bonsoir à toutes et tous\, \nDe nouveau cette année 2021 l’ARÉCABE sera présente avec NAVICABE pour montrer notre solidarité avec les MALADES ET LES PARENTS le samedi 04 et dimanche 05 décembre. \nTout au long de ces deux jours nous proposerons des balades en bateaux\, visite de notre bateau berrichon CHER\, vente de café\, thé\, chocolat et gâteaux\,  la somme récoltée sera versée au profit du téléthon. \nINNOVER POUR GUERIR\nOffrez généreusement un peu de votre temps . Retrouvez nous quai du bassin. \nAndré BARRE \n_Innover pour guérir : le combat des malades et de leurs familles_\n_L’AFM-Téléthon est une association de parents et de malades qui\nmène un combat sans relâche contre des maladies génétiques\, rares et\nlourdement invalidantes._ \n
URL:https://www.ententedescanaux.org/evenements/arecabe-telethon-2021/
LOCATION:Quai du Bassin Vierzon\, quai du bassin\, Vierzon\, 18100\, France
ATTACH;FMTTYPE=image/jpeg:https://www.ententedescanaux.org/wp-content/uploads/2020/10/P101_arecabe-logo-petit.jpg
END:VEVENT
END:VCALENDAR