BEGIN:VCALENDAR
VERSION:2.0
PRODID:-//L&#039;Entente des Canaux du Centre France - ECPv4.9.7//NONSGML v1.0//EN
CALSCALE:GREGORIAN
METHOD:PUBLISH
X-WR-CALNAME:L&#039;Entente des Canaux du Centre France
X-ORIGINAL-URL:https://www.ententedescanaux.org
X-WR-CALDESC:Évènements pour L&#039;Entente des Canaux du Centre France
BEGIN:VTIMEZONE
TZID:"Europe/Paris"
BEGIN:DAYLIGHT
TZOFFSETFROM:+0100
TZOFFSETTO:+0200
TZNAME:CEST
DTSTART:20220327T010000
END:DAYLIGHT
BEGIN:STANDARD
TZOFFSETFROM:+0200
TZOFFSETTO:+0100
TZNAME:CET
DTSTART:20221030T010000
END:STANDARD
END:VTIMEZONE
BEGIN:VEVENT
DTSTART;TZID="Europe/Paris":20220828T080000
DTEND;TZID="Europe/Paris":20220828T170000
DTSTAMP:20260422T041039
CREATED:20220705T113705Z
LAST-MODIFIED:20220705T115109Z
UID:5855-1661673600-1661706000@www.ententedescanaux.org
SUMMARY:ANCO - Fête du Canal à Fay aux Loges
DESCRIPTION:
URL:https://www.ententedescanaux.org/evenements/anco-fete-du-canal-a-fay-aux-loges/
LOCATION:Fay aux Loges\, Chem. de Halage\, Fay aux Loges\, 45450\, France
ATTACH;FMTTYPE=image/jpeg:https://www.ententedescanaux.org/wp-content/uploads/2019/10/P105_Logo_ANCO.jpg
END:VEVENT
END:VCALENDAR